BEGIN:VCALENDAR
VERSION:2.0
PRODID:-//Escuela de Competencias San Blas Digital - ECPv6.15.9//NONSGML v1.0//EN
CALSCALE:GREGORIAN
METHOD:PUBLISH
X-WR-CALNAME:Escuela de Competencias San Blas Digital
X-ORIGINAL-URL:https://sanblasdigital.es
X-WR-CALDESC:Eventos para Escuela de Competencias San Blas Digital
REFRESH-INTERVAL;VALUE=DURATION:PT1H
X-Robots-Tag:noindex
X-PUBLISHED-TTL:PT1H
BEGIN:VTIMEZONE
TZID:Europe/Madrid
BEGIN:DAYLIGHT
TZOFFSETFROM:+0100
TZOFFSETTO:+0200
TZNAME:CEST
DTSTART:20230326T010000
END:DAYLIGHT
BEGIN:STANDARD
TZOFFSETFROM:+0200
TZOFFSETTO:+0100
TZNAME:CET
DTSTART:20231029T010000
END:STANDARD
BEGIN:DAYLIGHT
TZOFFSETFROM:+0100
TZOFFSETTO:+0200
TZNAME:CEST
DTSTART:20240331T010000
END:DAYLIGHT
BEGIN:STANDARD
TZOFFSETFROM:+0200
TZOFFSETTO:+0100
TZNAME:CET
DTSTART:20241027T010000
END:STANDARD
BEGIN:DAYLIGHT
TZOFFSETFROM:+0100
TZOFFSETTO:+0200
TZNAME:CEST
DTSTART:20250330T010000
END:DAYLIGHT
BEGIN:STANDARD
TZOFFSETFROM:+0200
TZOFFSETTO:+0100
TZNAME:CET
DTSTART:20251026T010000
END:STANDARD
END:VTIMEZONE
BEGIN:VEVENT
DTSTART;TZID=Europe/Madrid:20240315T113000
DTEND;TZID=Europe/Madrid:20240315T133000
DTSTAMP:20260419T165024
CREATED:20240304T094154Z
LAST-MODIFIED:20240306T152244Z
UID:10000098-1710502200-1710509400@sanblasdigital.es
SUMMARY:El empleo en el periodismo deportivo: Julia del Mar charla con los alumnos del IES Francisco de Quevedo
DESCRIPTION:El periodismo deportivo es un ámbito que interesa\, y mucho\, a los alumnos del IES Francisco de Quevedo. \n¿Qué habilidades y capacidades se necesitan para ser un buen periodista deportivo? \n¿Qué formación es recomendable tener? \n¿Cuál es la realidad del sector a nivel de empleo\, qué posibilidades de trabajo hay? \nPara responder a estas preguntas\, el próximo 15 de marzo tendremos en la Escuela de Competencias San Blas Digital a una mujer que es historia viva de esta profesión en nuestro país. Ella es Julia del Mar\, periodista del diario Marca con más de tres décadas de experiencia. \nJulia les contará su historia\, llena de anécdotas interesantes\, y les dará algunos consejos para hacer carrera en este terreno.
URL:https://sanblasdigital.es/actividad/el-empleo-en-el-periodismo-deportivo-julia-del-mar-charla-con-los-alumnos-del-ies-francisco-de-quevedo/
LOCATION:Escuela San Blas\, Calle de Amposta\, 34\, Madrid\, Madrid\, España
ATTACH;FMTTYPE=image/jpeg:https://sanblasdigital.es/wp-content/uploads/evento-pilar-vara-1.jpg
END:VEVENT
END:VCALENDAR